BEGIN:VCALENDAR
VERSION:2.0
PRODID:-//PS Genève Sud - ECPv6.13.0//NONSGML v1.0//EN
CALSCALE:GREGORIAN
METHOD:PUBLISH
X-WR-CALNAME:PS Genève Sud
X-ORIGINAL-URL:https://ps-genevesud.ch
X-WR-CALDESC:Évènements pour PS Genève Sud
REFRESH-INTERVAL;VALUE=DURATION:PT1H
X-Robots-Tag:noindex
X-PUBLISHED-TTL:PT1H
BEGIN:VTIMEZONE
TZID:Europe/Zurich
BEGIN:DAYLIGHT
TZOFFSETFROM:+0100
TZOFFSETTO:+0200
TZNAME:CEST
DTSTART:20250330T010000
END:DAYLIGHT
BEGIN:STANDARD
TZOFFSETFROM:+0200
TZOFFSETTO:+0100
TZNAME:CET
DTSTART:20251026T010000
END:STANDARD
END:VTIMEZONE
BEGIN:VEVENT
DTSTART;TZID=Europe/Zurich:20250215T100000
DTEND;TZID=Europe/Zurich:20250215T120000
DTSTAMP:20260424T133919
CREATED:20250204T142952Z
LAST-MODIFIED:20250204T143634Z
UID:10000008-1739613600-1739620800@ps-genevesud.ch
SUMMARY:EPPC / Venez à notre rencontre !
DESCRIPTION:Venez à notre rencontre ! \nSamedi 15 février 2025\n⏰ 10h00 – 12h00\nArrêt de bus « Ravières » \nNos candidates et candidats aux élections municipales seront présents pour échanger avec vous\, répondre à vos questions et partager nos engagements pour Perly-Certoux. \nVotez la liste n°2 – Ensemble pour Perly-Certoux\nLe 23 mars 2025 \nVenez nombreux\, on vous attend !
URL:https://ps-genevesud.ch/evenement/eppc-venez-a-notre-rencontre-2/
LOCATION:Arrêt de bus « Ravières »\, Rte de Saint-Julien 283\, Perly-Certoux\, Genève\, 1258\, Switzerland
ORGANIZER;CN="Ensemble pour Perly-Certoux":MAILTO:info@eppc.ch
END:VEVENT
END:VCALENDAR