BEGIN:VCALENDAR
VERSION:2.0
PRODID:-//PS Genève Sud - ECPv6.13.0//NONSGML v1.0//EN
CALSCALE:GREGORIAN
METHOD:PUBLISH
X-WR-CALNAME:PS Genève Sud
X-ORIGINAL-URL:https://ps-genevesud.ch
X-WR-CALDESC:Évènements pour PS Genève Sud
REFRESH-INTERVAL;VALUE=DURATION:PT1H
X-Robots-Tag:noindex
X-PUBLISHED-TTL:PT1H
BEGIN:VTIMEZONE
TZID:Europe/Zurich
BEGIN:DAYLIGHT
TZOFFSETFROM:+0100
TZOFFSETTO:+0200
TZNAME:CEST
DTSTART:20250330T010000
END:DAYLIGHT
BEGIN:STANDARD
TZOFFSETFROM:+0200
TZOFFSETTO:+0100
TZNAME:CET
DTSTART:20251026T010000
END:STANDARD
END:VTIMEZONE
BEGIN:VEVENT
DTSTART;TZID=Europe/Zurich:20250218T200000
DTEND;TZID=Europe/Zurich:20250218T220000
DTSTAMP:20260420T072818
CREATED:20250204T144149Z
LAST-MODIFIED:20250204T144149Z
UID:84608-1739908800-1739916000@ps-genevesud.ch
SUMMARY:Table ronde avec Thierry Apothéloz et Julie Udry : Comment faire avancer ensemble nos projets ?
DESCRIPTION:Table ronde avec Thierry Apothéloz et Julie Udry : Comment faire avancer ensemble nos projets ? \n Mardi 18 février 2025 à 20h\n Salle du Théâtre\, Route de Certoux 51 \n Ensemble pour Perly-Certoux ( Liste 2 au Conseil municipal\,  Liste 3 au Conseil administratif) vous invite à une soirée d’échanges exceptionnelle en présence de :\n✅ Thierry Apothéloz\, Conseiller d’État en charge du Département de la cohésion sociale\n✅ Julie Udry\, Conseillère municipale\, candidate au Conseil administratif de Genthod et vice-présidente du Conseil d’administration de SIG \nAvec le soutien du Centre\, du Parti Socialiste et des Vert.e.s\, nous discuterons de sujets essentiels pour l’avenir de Perly-Certoux :\n️ Développement des infrastructures sportives\n Petite enfance et soutien aux familles\n‍⚕️ Proches aidants et solidarité\n Pouvoir d’achat et économie locale\n Mobilité et transports\n Transition énergétique et durabilité \n Un apéritif convivial clôturera la soirée pour poursuivre les échanges avec nos invité-es et nos candidat-es. \n Nous vous attendons nombreuses et nombreux ! Ensemble\, construisons l’avenir de notre commune !
URL:https://ps-genevesud.ch/evenement/table-ronde-avec-thierry-apotheloz-et-julie-udry-comment-faire-avancer-ensemble-nos-projets/
LOCATION:Salle du Théâtre\, Rte de Certoux 51\, Perly-Certoux\, Genève\, 1258\, Switzerland
ORGANIZER;CN="Ensemble pour Perly-Certoux":MAILTO:info@eppc.ch
END:VEVENT
END:VCALENDAR